Workbook

Sheet reka
B3: SKUPNA REKAPITULACIJA
B7: 01 | C7: PODBREZNIK | J7: =PODBREZNIK!E26 -> 0
B8: 02 | C8: ŠTUKLJEVA BRV | J8: ='ŠTUKLJEVA BRV'!E30 -> 0
B9: 03 | C9: ŠEGOVA ULICA | J9: ='ŠEGOVA ULICA'!E26 -> 0
B10: 04 | C10: PORTOVAL | J10: =PORTOVAL!E36 -> 0
B11: 05 | C11: AVTOBUSNA POSTAJA | J11: ='AVTOBUSNA POSTAJA'!E28 -> 0
B12: 06 | C12: PARKIRIŠČE PRI IZLIVU TEŽKE VODE | J12: ='P PRI IZLIVU TEŽKE VODE'!E30 -> 0
B13: 07 | C13: JULIJINA BRV | J13: ='JULIJINA BRV'!E18 -> 0
C16: SKUPAJ | J16: =SUM(J7:J13) -> 0
C17: DDV 22% | J17: =0.22*J16 -> 0
C18: SKUPAJ Z DDV | J18: =J16+J17 -> 0

Sheet PODBREZNIK
A2: 1. Zagotovitev stalnega el. napajanja
A4: 1.1. MONTAŽNA DELA
A6: Dograditev varovalke 6A in ožičenje v OJR | B6: kpl | C6: 1 | D6: 0 | E6: =C6*D6 -> 0
A8: Dobava montaža kabla NYY-J 3x2,5mm po drogu | B8: m | C8: 6 | D8: 0 | E8: =C8*D8 -> 0
A10: Dobava kabla NYY-J 3x4 | B10: m | C10: 81 | D10: 0 | E10: =C10*D10 -> 0
A12: Uvleka kabla v zaščitno cev | B12: m | C12: 81 | D12: 0 | E12: =C12*D12 -> 0
A14: Demontaža obstoječega droga H 6m + svetilke + kabelskiv vodnikov v drogu + temeljno zemljilo | B14: kpl | C14: 1 | D14: 0 | E14: =C14*D14 -> 0
A16: Montaža obstoječega droga H 6m + svetilke + kabelskiv vodnikov v drogu + temeljno zemljilo | B16: kpl | C16: 1 | D16: 0 | E16: =C16*D16 -> 0
A18: Delo delavca - električarja (izvedba prevezav kab. vodov po drogovih cestne razsvetljave-zagotovitev stalne faze) 27 KOS | B18: ura | C18: 14 | D18: 0 | E18: =C18*D18 -> 0
A20: Dobava montaža na drog Rf omarica (v x š x g) 450 x 350 x 240 mm z ključavnico in ožičenjem, priravljena za priklop kamere | B20: kpl | C20: 1 | D20: 0 | E20: =C20*D20 -> 0
A22: Drobni vezni material (vezice, vijaki, matice, sponka, Pf žica, …) | B22: kpl | C22: 1 | D22: 0 | E22: =C22*D22 -> 0
A24: SKUPAJ | E24: =SUM(E5:E22) -> 0
A25: Nepredvidena dela (5% vseh del) | E25: =E24*0.05 -> 0
A26: SKUPAJ: | B26: EUR brez DDV | E26: =E24+E25 -> 0

Sheet ŠTUKLJEVA BRV
A2: 1. Zagotovitev stalnega el. napajanja
A4: 1.1. MONTAŽNA DELA
A6: Dograditev varovalke 6A in ožičenje v OJR | B6: kpl | C6: 1 | D6: 0 | E6: =C6*D6 -> 0
A8: Dobava montaža kabla NYY-J 3x2,5mm po drogu | B8: m | C8: 6 | D8: 0 | E8: =C8*D8 -> 0
A10: Dobava kabla NYY-J 3x4 | B10: m | C10: 51 | D10: 0 | E10: =C10*D10 -> 0
A12: Uvleka kabla v zaščitno cev | B12: m | C12: 51 | D12: 0 | E12: =C12*D12 -> 0
A14: Demontaža obstoječega droga H 6m (vsadni- rušenje temelja) +svetilka + kab. vodnik v drogu + temeljno ozemljilo | B14: kpl | C14: 1 | D14: 0 | E14: =C14*D14 -> 0
A16: Montaža obstojelega kandelabra H 6m ( izvedba temelja, montaža droga,svetilke) +svetilka + kab. vodnik v drogu + temeljno ozemljilo | B16: kpl | C16: 1 | D16: 0 | E16: =C16*D16 -> 0
A18: Izkop, zasutje, utrjevanje po slojih, fino planiranje | B18: m | C18: 35 | D18: 0 | E18: =C18*D18 -> 0
A20: Dobava montža cevi fi 75 el.energetske | B20: m | C20: 35 | D20: 0 | E20: =C20*D20 -> 0
A22: Delo delavca - električarja (izvedba prevezav kab. vodov po drogovih cestne razsvetljave-zagotovitev stalne faze) 6 kpl | B22: ura | C22: 5 | D22: 0 | E22: =C22*D22 -> 0
A24: Dobava montaža na drog Rf omarica (v x š x g) 450 x 350 x 240 mm z ključavnico in ožičenjem, priravljena za priklop kamere | B24: kpl | C24: 1 | D24: 0 | E24: =C24*D24 -> 0
A26: Drobni vezni material (vezice, vijaki, matice, sponka, Pf žica, …) | B26: kpl | C26: 1 | D26: 0 | E26: =C26*D26 -> 0
A28: SKUPAJ | E28: =SUM(E5:E26) -> 0
A29: Nepredvidena dela (5% vseh del) | E29: =E28*0.05 -> 0
A30: SKUPAJ: | B30: EUR brez DDV | E30: =E28+E29 -> 0

Sheet ŠEGOVA ULICA
A2: 1. Zagotovitev stalnega el. napajanja
A4: 1.1. MONTAŽNA DELA
A6: Dograditev varovalke 6A in ožičenje v OJR | B6: kpl | C6: 1 | D6: 0 | E6: =C6*D6 -> 0
A8: Dobava montaža kabla NYY-J 3x2,5mm po drogu | B8: m | C8: 6 | D8: 0 | E8: =C8*D8 -> 0
A10: Dobava kabla NYY-J 3x4 | B10: m | C10: 78 | D10: 0 | E10: =C10*D10 -> 0
A12: Uvleka kabla v zaščitno cev | B12: m | C12: 78 | D12: 0 | E12: =C12*D12 -> 0
A14: Demontaža obstoječega droga H 6m + svetilke + kabelskiv vodnikov v drogu + temeljno zemljilo | B14: kpl | C14: 1 | D14: 0 | E14: =C14*D14 -> 0
A16: Montaža obstoječega droga H 6m + svetilke + kabelskiv vodnikov v drogu + temeljno zemljilo | B16: kpl | C16: 1 | D16: 0 | E16: =C16*D16 -> 0
A18: Delo delavca - električarja (izvedba prevezav kab. vodov po drogovih cestne razsvetljave-zagotovitev stalne faze) | B18: ura | C18: 10 | D18: 0 | E18: =C18*D18 -> 0
A20: Dobava montaža na drog Rf omarica (v x š x g) 450 x 350 x 240 mm z ključavnico in ožičenjem, priravljena za priklop kamere | B20: kpl | C20: 1 | D20: 0 | E20: =C20*D20 -> 0
A22: Drobni vezni material (vezice, vijaki, matice, sponka, Pf žica, …) | B22: kpl | C22: 1 | D22: 0 | E22: =C22*D22 -> 0
A24: SKUPAJ | E24: =SUM(E6:E23) -> 0
A25: Nepredvidena dela (5% vseh del) | E25: =E24*0.05 -> 0
A26: SKUPAJ: | B26: EUR brez DDV | E26: =E24+E25 -> 0

Sheet PORTOVAL
A2: 1. Zagotovitev stalnega el. napajanja
A4: 1.1. MONTAŽNA DELA
A6: Dograditev varovalke 6A in ožičenje v OJR + el.omarica v garažni hiši | B6: kpl | C6: 2 | D6: 0 | E6: =C6*D6 -> 0
A8: Dobava montaža kabla NYY-J 3x2,5mm po drogu | B8: m | C8: 35 | D8: 0 | E8: =C8*D8 -> 0
A10: Dobava kabla NYY-J 3x4 | B10: m | C10: 135 | D10: 0 | E10: =C10*D10 -> 0
A12: Uvleka kabla v zaščitno cev | B12: m | C12: 135 | D12: 0 | E12: =C12*D12 -> 0
A14: Demontaža obstoječega droga H 6m + svetilke + kabelskiv vodnikov v drogu + temeljno zemljilo | B14: kpl | C14: 4 | D14: 0 | E14: =C14*D14 -> 0
A16: Montaža obstoječega droga H 6m + svetilke + kabelskiv vodnikov v drogu + temeljno zemljilo | B16: kpl | C16: 4 | D16: 0 | E16: =C16*D16 -> 0
A18: Izkop, zasutje, utrjevanje po slojih, fino planiranje | B18: m | C18: 44 | D18: 0 | E18: =C18*D18 -> 0
A20: Dobava montža cevi fi 75 el.energetske | B20: m | C20: 44 | D20: 0 | E20: =C20*D20 -> 0
A22: Dobava in montaža kabelska polica PK50 s pokrovom in obešalnim priborommontaža na oporni betonski zid | B22: m | C22: 78 | D22: 0 | E22: =C22*D22 -> 0
A24: Dobava montaža pocinkanega droga -kandelaber H 7m sidrni z vraticami in priključno sponko -MVL | B24: kpl | C24: 1 | D24: 0 | E24: =C24*D24 -> 0
A26: Dobava montaža pocinkanega sidrnega podstavka za drog H 7m - za montažo na betonski uporni zid z 8 sidrnimi vijaki. (v x š x d ) 1m x 0.5m x 0.5m) pritrdi se ga na betonski zid z 8 navojnimi Rf palicami M18, vrtanje odprtin in pritrjevanje navojnih Rf navojnih palic - kpl z vsem delom in materialom | B26: kpl | C26: 1 | D26: 0 | E26: =C26*D26 -> 0
A28: Delo delavca - električarja (izvedba prevezav kab. vodov po drogovih cestne razsvetljave-zagotovitev stalne faze) 30 kpl | B28: ura | C28: 24 | D28: 0 | E28: =C28*D28 -> 0
... A32: Drobni vezni material (vezice, vijaki, matice, sponka, Pf žica, …) | B32: kpl | C32: 1 | D32: 0 | E32: =C32*D32 -> 0
A34: SKUPAJ | E34: =SUM(E5:E33) -> 0
A35: Nepredvidena dela (5% vseh del) | E35: =E34*0.05 -> 0
A36: SKUPAJ: | B36: EUR brez DDV | E36: =E34+E35 -> 0

Sheet AVTOBUSNA POSTAJA
A2: 1. Zagotovitev stalnega el. napajanja
A4: 1.1. MONTAŽNA DELA - MOŽEN STALNI DOVOD PRI OJR (LOKACIJA KAMERE)
A6: Dograditev varovalke 3 x 6A in ožičenje v OJR; preboj skozi betonsko steno T.P. in sanacija odprtine | B6: kpl | C6: 1 | D6: 0 | E6: =C6*D6 -> 0
A8: Dobava kabla NYY-J 3X4 | B8: m | C8: 125 | D8: 0 | E8: =C8*D8 -> 0
A10: Uvleka kabla v zaščitno cev | B10: m | C10: 125 | D10: 0 | E10: =C10*D10 -> 0
A12: Dobava in montaža kabelska polica PK50 s pokrovom in obešalnim priborommontaža na oporni betonski zid | B12: m | C12: 120 | D12: 0 | E12: =C12*D12 -> 0
A14: Delo delavca - električarja (izvedba prevezav kab. vodov v T.P. avtobusne postaje NM -zagotovitev stalne faze) - vpoštevati prisotnost EL. Ljubljana | B14: ura | C14: 8 | D14: 0 | E14: =C14*D14 -> 0
A16: Dobava montaža na drog Rf omarica (v x š x g) 450 x 350 x 240 mm z ključavnico in ožičenjem, priravljena za priklop kamere | B16: kpl | C16: 2 | D16: 0 | E16: =C16*D16 -> 0
A18: Dobava montaža pocinkanega droga -kandelaber H 9m sidrni z vraticami in priključno sponko -MVL | B18: kpl | C18: 2 | D18: 0 | E18: =C18*D18 -> 0
A20: Dobava montaža pocinkanega sidrnega podstavka za drog H 9m - za montažo na betonski uporni zid z 8 sidrnimi vijaki. (v x š x d ) 1m x 0.5m x 0.5m) pritrdi se ga na betonski zid z 8 navojnimi Rf palicami M18, vrtanje odprtin in pritrjevanje navojnih Rf navojnih palic - kpl z vsem delom in materialom | B20: kpl | C20: 2 | D20: 0 | E20: =C20*D20 -> 0
A22: Izvedba priklopa ozemljitev vseh kovinski delov z Cu pletenico 25mm2 | B22: kpl | C22: 6 | D22: 0 | E22: =C22*D22 -> 0
A24: Drobni vezni material (vezice, vijaki, matice, sponka, Pf žica, …) | B24: kpl | C24: 1 | D24: 0 | E24: =C24*D24 -> 0
A26: SKUPAJ | E26: =SUM(E5:E24) -> 0
A27: Nepredvidena dela (5% vseh del) | E27: =E26*0.05 -> 0
A28: SKUPAJ: | B28: EUR brez DDV | E28: =E26+E27 -> 0

Sheet P PRI IZLIVU TEŽKE VODE
A2: 1. Zagotovitev stalnega el. napajanja
A4: 1.1. MONTAŽNA DELA - MOŽEN STALNI DOVOD PRI OJR (LOKACIJA KAMERE)
A6: Dograditev varovalke 6A in ožičenje v OJR | B6: kpl | C6: 1 | D6: 0 | E6: =C6*D6 -> 0
A8: Dobava montaža kabla NYY-J 3x2,5mm po drogu | B8: m | C8: 6 | D8: 0 | E8: =C8*D8 -> 0
A10: Dobava kabla NYY-J 3x4 | B10: m | C10: 71 | D10: 0 | E10: =C10*D10 -> 0
A12: Uvleka kabla v zaščitno cev | B12: m | C12: 71 | D12: 0 | E12: =C12*D12 -> 0
A14: Demontaža obstoječega droga H 6m + svetilke + kabelskiv vodnikov v drogu + temeljno zemljilo | B14: kpl | C14: 2 | D14: 0 | E14: =C14*D14 -> 0
A16: Montaža obstoječega droga H 6m + svetilke + kabelskiv vodnikov v drogu + temeljno zemljilo | B16: kpl | C16: 2 | D16: 0 | E16: =C16*D16 -> 0
A18: Izkop, zasutje, utrjevanje po slojih, fino planiranje | B18: m | C18: 16 | D18: 0 | E18: =C18*D18 -> 0
A20: Dobava montža cevi fi 75 el.energetske | B20: m | C20: 16 | D20: 0 | E20: =C20*D20 -> 0
A22: Delo delavca - električarja (izvedba prevezav kab. vodov po drogovih cestne razsvetljave-zagotovitev stalne faze) 3 kpl | B22: ura | C22: 7 | D22: 0 | E22: =C22*D22 -> 0
A24: Dobava montaža na drog Rf omarica (v x š x g) 450 x 350 x 240 mm z ključavnico in ožičenjem, priravljena za priklop kamere | B24: kpl | C24: 1 | D24: 0 | E24: =C24*D24 -> 0
A26: Drobni vezni material (vezice, vijaki, matice, sponka, Pf žica, …) | B26: kpl | C26: 1 | D26: 0 | E26: =C26*D26 -> 0
A28: SKUPAJ | E28: =SUM(E5:E26) -> 0
A29: Nepredvidena dela (5% vseh del) | E29: =E28*0.05 -> 0
A30: SKUPAJ: | B30: EUR brez DDV | E30: =E28+E29 -> 0

Sheet JULIJINA BRV
A2: 1. Zagotovitev stalnega el. napajanja
A4: 1.1. MONTAŽNA DELA
A6: Dograditev varovalke 6A in ožičenje v OJR | B6: kpl | C6: 1 | D6: 0 | E6: =C6*D6 -> 0
A8: Dobava montaža kabla NYY-J 3x2,5mm po drogu | B8: m | C8: 6 | D8: 0 | E8: =C8*D8 -> 0
A10: Delo delavca - električarja (izvedba prevezav kab. vodov po drogovih cestne razsvetljave-zagotovitev stalne faze) 16 KOS | B10: ura | C10: 12 | D10: 0 | E10: =C10*D10 -> 0
A12: Dobava montaža na drog Rf omarica (v x š x g) 450 x 350 x 240 mm z ključavnico in ožičenjem, priravljena za priklop kamere | B12: kpl | C12: 1 | D12: 0 | E12: =C12*D12 -> 0
A14: Drobni vezni material (vezice, vijaki, matice, sponka, Pf žica, …) | B14: kpl | C14: 1 | D14: 0 | E14: =C14*D14 -> 0
A16: SKUPAJ | E16: =SUM(E6:E14) -> 0
A17: Nepredvidena dela (5% vseh del) | E17: =E16*0.05 -> 0
A18: SKUPAJ: | B18: EUR brez DDV | E18: =E16+E17 -> 0
